BEGIN:VCALENDAR
VERSION:2.0
PRODID:-//Dynamics Communities - ECPv6.15.17.1//NONSGML v1.0//EN
CALSCALE:GREGORIAN
METHOD:PUBLISH
X-ORIGINAL-URL:https://dynamicscommunities.com
X-WR-CALDESC:Events for Dynamics Communities
REFRESH-INTERVAL;VALUE=DURATION:PT1H
X-Robots-Tag:noindex
X-PUBLISHED-TTL:PT1H
BEGIN:VTIMEZONE
TZID:America/New_York
BEGIN:DAYLIGHT
TZOFFSETFROM:-0500
TZOFFSETTO:-0400
TZNAME:EDT
DTSTART:20230312T070000
END:DAYLIGHT
BEGIN:STANDARD
TZOFFSETFROM:-0400
TZOFFSETTO:-0500
TZNAME:EST
DTSTART:20231105T060000
END:STANDARD
BEGIN:DAYLIGHT
TZOFFSETFROM:-0500
TZOFFSETTO:-0400
TZNAME:EDT
DTSTART:20240310T070000
END:DAYLIGHT
BEGIN:STANDARD
TZOFFSETFROM:-0400
TZOFFSETTO:-0500
TZNAME:EST
DTSTART:20241103T060000
END:STANDARD
BEGIN:DAYLIGHT
TZOFFSETFROM:-0500
TZOFFSETTO:-0400
TZNAME:EDT
DTSTART:20250309T070000
END:DAYLIGHT
BEGIN:STANDARD
TZOFFSETFROM:-0400
TZOFFSETTO:-0500
TZNAME:EST
DTSTART:20251102T060000
END:STANDARD
END:VTIMEZONE
BEGIN:VEVENT
DTSTART;TZID=America/New_York:20240827T130000
DTEND;TZID=America/New_York:20240827T140000
DTSTAMP:20260422T080753
CREATED:20240822T120344Z
LAST-MODIFIED:20240906T163125Z
UID:72045-1724763600-1724767200@dynamicscommunities.com
SUMMARY:[ON-DEMAND]: BC/NAV UG Webinar: 5 Criteria to Use For Picking the Right App For Your Problems
DESCRIPTION:Description: There are nearly 5\,800 apps for Business Central on AppSource today. Whatever problem you’re looking to address\, chances are you’ll have more than one app to choose from. How do you make sure you’re picking the right one? AJ Ansari shares five criteria you should use every time you are selecting an app. Follow these\, and you won’t be creating a new problem while trying to solve an existing one. \n \n  \nClick here to view the slides from the presentation.
URL:https://dynamicscommunities.com/event/bc-nav-ug-webinar-5-criteria-to-use-for-picking-the-right-app-for-your-problems/
CATEGORIES:Dynamics Business Central / NAV UG,On-Demand
ATTACH;FMTTYPE=image/jpeg:https://cdn.dynamicscommunities.com/wp-content/uploads/2024/01/Dynamics-Communities-logo-2.jpg
END:VEVENT
END:VCALENDAR