BEGIN:VCALENDAR
VERSION:2.0
PRODID:-//Dynamics Communities - ECPv6.15.17.1//NONSGML v1.0//EN
CALSCALE:GREGORIAN
METHOD:PUBLISH
X-WR-CALNAME:Dynamics Communities
X-ORIGINAL-URL:https://dynamicscommunities.com
X-WR-CALDESC:Events for Dynamics Communities
REFRESH-INTERVAL;VALUE=DURATION:PT1H
X-Robots-Tag:noindex
X-PUBLISHED-TTL:PT1H
BEGIN:VTIMEZONE
TZID:America/New_York
BEGIN:DAYLIGHT
TZOFFSETFROM:-0500
TZOFFSETTO:-0400
TZNAME:EDT
DTSTART:20250309T070000
END:DAYLIGHT
BEGIN:STANDARD
TZOFFSETFROM:-0400
TZOFFSETTO:-0500
TZNAME:EST
DTSTART:20251102T060000
END:STANDARD
BEGIN:DAYLIGHT
TZOFFSETFROM:-0500
TZOFFSETTO:-0400
TZNAME:EDT
DTSTART:20260308T070000
END:DAYLIGHT
BEGIN:STANDARD
TZOFFSETFROM:-0400
TZOFFSETTO:-0500
TZNAME:EST
DTSTART:20261101T060000
END:STANDARD
BEGIN:DAYLIGHT
TZOFFSETFROM:-0500
TZOFFSETTO:-0400
TZNAME:EDT
DTSTART:20270314T070000
END:DAYLIGHT
BEGIN:STANDARD
TZOFFSETFROM:-0400
TZOFFSETTO:-0500
TZNAME:EST
DTSTART:20271107T060000
END:STANDARD
END:VTIMEZONE
BEGIN:VTIMEZONE
TZID:America/Los_Angeles
BEGIN:DAYLIGHT
TZOFFSETFROM:-0800
TZOFFSETTO:-0700
TZNAME:PDT
DTSTART:20250309T100000
END:DAYLIGHT
BEGIN:STANDARD
TZOFFSETFROM:-0700
TZOFFSETTO:-0800
TZNAME:PST
DTSTART:20251102T090000
END:STANDARD
BEGIN:DAYLIGHT
TZOFFSETFROM:-0800
TZOFFSETTO:-0700
TZNAME:PDT
DTSTART:20260308T100000
END:DAYLIGHT
BEGIN:STANDARD
TZOFFSETFROM:-0700
TZOFFSETTO:-0800
TZNAME:PST
DTSTART:20261101T090000
END:STANDARD
BEGIN:DAYLIGHT
TZOFFSETFROM:-0800
TZOFFSETTO:-0700
TZNAME:PDT
DTSTART:20270314T100000
END:DAYLIGHT
BEGIN:STANDARD
TZOFFSETFROM:-0700
TZOFFSETTO:-0800
TZNAME:PST
DTSTART:20271107T090000
END:STANDARD
END:VTIMEZONE
BEGIN:VEVENT
DTSTART;TZID=America/New_York:20260305T080000
DTEND;TZID=America/New_York:20260305T160000
DTSTAMP:20260422T083643
CREATED:20251120T145543Z
LAST-MODIFIED:20260226T134350Z
UID:79928-1772697600-1772726400@dynamicscommunities.com
SUMMARY:Houston — Dynamics 365 ERP/CE\, Power Platform & AI Summit NA Roadshow
DESCRIPTION:The Community Summit Roadshow features a full day of Dynamics 365\, Power Platform\, and Copilot education and networking\, with speakers from Microsoft and the community of partners\, buyers\, and users. All Roadshow events are offered free to attendees.   \nA couple of details:   \n\nAttendee profile: Business\, technology\, finance\, and operations users of Dynamics 365 ERP\, CRM\, Power Platform\, and Copilot solutions who are trying to stay relevant in the fast pace of AI innovation \nAgenda overview: Features general session programming in the morning on AI\, including an interactive discussion on how people use AI to stay relevant\, followed by lunch with free help desk support\, then breakout rooms that are product-specific in the afternoon\, including:  \n\nDynamics 365 Business Central \nDynamics 365 Finance & Supply Chain  \nPower Platform & CE/CRM & Copilot \n\n\n How is it free: This is a FREE training event produced by Dynamic Communities Learners Platform\, based on the generosity of the partners sponsoring the Roadshow  \n\nIf you are trying to figure out what role AI agents & Copilot will play in your Dynamics 365 ERP & CRM systems\, or how they are evolving low-code/no-code automations with Power Platform\, or are inspired to learn more about the technologies you own\, this event is worth your time investment. 
URL:https://dynamicscommunities.com/event/summit-na-roadshow-houston-3/
LOCATION:Microsoft Town Center\, 750 Town and Country Boulevard 10th Floor\, Houston\, TX\, 77024\, United States
CATEGORIES:Copilot UG,Dynamics Business Central / NAV UG,Dynamics CE / CRM UG,Dynamics FO / AX UG,Power Platform UG
ATTACH;FMTTYPE=image/jpeg:https://cdn.dynamicscommunities.com/wp-content/uploads/2025/02/Final-2026-Roadshow-logo.jpg
END:VEVENT
BEGIN:VEVENT
DTSTART;TZID=America/New_York:20260305T130000
DTEND;TZID=America/New_York:20260305T140000
DTSTAMP:20260422T083643
CREATED:20260209T211323Z
LAST-MODIFIED:20260309T183926Z
UID:80929-1772715600-1772719200@dynamicscommunities.com
SUMMARY:Learners[BC/NAV Webinar]: AI in Business Central for Dummies
DESCRIPTION:Are you tired of hearing “AI is the future” but having no idea how it helps you in Business Central today? This fast-paced\, zero-jargon\, lively session is your friendly on-ramp to AI inside Dynamics 365 Business Central. Whether you’re a functional consultant\, power user\, or anyone who wants to work smarter without becoming a data scientist\, this fun session will show you how AI within Business Central can help elevate decision-making and unlock new levels of efficiency—without requiring any technical expertise. \nWatch On-Demand Here
URL:https://dynamicscommunities.com/event/learnersbc-nav-northeast-us-ai-in-business-central-for-dummies/
CATEGORIES:Dynamics Business Central / NAV UG
ATTACH;FMTTYPE=image/jpeg:https://cdn.dynamicscommunities.com/wp-content/uploads/2024/06/Dynamics-Communities-logo.jpg
END:VEVENT
BEGIN:VEVENT
DTSTART;TZID=America/Los_Angeles:20260316T080000
DTEND;TZID=America/Los_Angeles:20260318T170000
DTSTAMP:20260422T083643
CREATED:20250520T195711Z
LAST-MODIFIED:20250521T183105Z
UID:76817-1773648000-1773853200@dynamicscommunities.com
SUMMARY:AI Agent & Copilot Summit NA 2026
DESCRIPTION:An AI-first event defining the opportunities\, impact\, and outcomes possible with Microsoft Agents & Copilot.
URL:https://dynamicscommunities.com/event/ai-agent-copilot-summit-na-2026/
LOCATION:Hilton La Jolla Torrey Pines​\, San Diego\, CA\, 10950 N Torrey Pines Rd\, La Jolla\, CA\, 92037\, United States
CATEGORIES:Copilot UG,Dynamics Business Central / NAV UG,Dynamics CE / CRM UG,Dynamics FO / AX UG,Dynamics GP UG,Dynamics SL UG,Fabric UG,Power Platform UG
ATTACH;FMTTYPE=image/png:https://cdn.dynamicscommunities.com/wp-content/uploads/2025/05/AI-copilot-summit-2026.png
END:VEVENT
BEGIN:VEVENT
DTSTART;TZID=America/New_York:20260319T130000
DTEND;TZID=America/New_York:20260319T150000
DTSTAMP:20260422T083643
CREATED:20260209T211727Z
LAST-MODIFIED:20260323T144243Z
UID:80931-1773925200-1773932400@dynamicscommunities.com
SUMMARY:BC|NAV March National UG Meeting
DESCRIPTION:Agenda: \n\nIntroductions – Chris Warren\nSummit Update – Michael Konstas\, Leanne Paul\, Elizabeth McQuiston\, Andrew Good\nUpcoming Events – Angela Holland\, Shawn Dorward\, Blaine Pennypacker\, David Laster\nEducational Sessions:\n\nYour Business Central Reporting Roadmap – Cari Corozza\nFinancial Reporting in Business Central – Kim Dallefeld\n\n\n\nOpen Forum – Chris Warren \nWatch On-Demand \n2026 March UG Slide Deck
URL:https://dynamicscommunities.com/event/bcnav-march-national-ug-meeting/
CATEGORIES:Dynamics Business Central / NAV UG
ATTACH;FMTTYPE=image/jpeg:https://cdn.dynamicscommunities.com/wp-content/uploads/2024/06/Dynamics-Communities-logo.jpg
END:VEVENT
END:VCALENDAR