BEGIN:VCALENDAR
VERSION:2.0
PRODID:-//Dynamics Communities - ECPv6.15.17.1//NONSGML v1.0//EN
CALSCALE:GREGORIAN
METHOD:PUBLISH
X-ORIGINAL-URL:https://dynamicscommunities.com
X-WR-CALDESC:Events for Dynamics Communities
REFRESH-INTERVAL;VALUE=DURATION:PT1H
X-Robots-Tag:noindex
X-PUBLISHED-TTL:PT1H
BEGIN:VTIMEZONE
TZID:America/New_York
BEGIN:DAYLIGHT
TZOFFSETFROM:-0500
TZOFFSETTO:-0400
TZNAME:EDT
DTSTART:20240310T070000
END:DAYLIGHT
BEGIN:STANDARD
TZOFFSETFROM:-0400
TZOFFSETTO:-0500
TZNAME:EST
DTSTART:20241103T060000
END:STANDARD
BEGIN:DAYLIGHT
TZOFFSETFROM:-0500
TZOFFSETTO:-0400
TZNAME:EDT
DTSTART:20250309T070000
END:DAYLIGHT
BEGIN:STANDARD
TZOFFSETFROM:-0400
TZOFFSETTO:-0500
TZNAME:EST
DTSTART:20251102T060000
END:STANDARD
BEGIN:DAYLIGHT
TZOFFSETFROM:-0500
TZOFFSETTO:-0400
TZNAME:EDT
DTSTART:20260308T070000
END:DAYLIGHT
BEGIN:STANDARD
TZOFFSETFROM:-0400
TZOFFSETTO:-0500
TZNAME:EST
DTSTART:20261101T060000
END:STANDARD
END:VTIMEZONE
BEGIN:VEVENT
DTSTART;TZID=America/New_York:20250416T100000
DTEND;TZID=America/New_York:20250416T150000
DTSTAMP:20260424T075122
CREATED:20240909T133240Z
LAST-MODIFIED:20250328T201152Z
UID:72336-1744797600-1744815600@dynamicscommunities.com
SUMMARY:Summit NA Roadshow — Washington\, D.C.
DESCRIPTION:The Community Summit NA Roadshow is a microburst of Summit NA\, the largest independent innovation\, education\, and training event for Microsoft Business Applications\, focused on basic learning\, local network\, and idea sharing for Dynamics 365 F/SCM (F&O)\, Business Central\, Dynamics 365 CE and Power Platform. \nCreated with a “for user\, by user” approach\, each stop provides the Microsoft Biz Apps community with a free day of training that includes 15-20 educational sessions\, coffee and lunch\, and networking\, providing the community with: \n\nBusiness application education\nIntimate networking opportunities\nPossibilities of new technologies\n\nJoin us at one of the stops in 2025! And if you’re interested in speaking\, don’t miss your chance to submit a session while the Call for Speakers is open.
URL:https://dynamicscommunities.com/event/summit-na-roadshow-washington-d-c/
LOCATION:Microsoft Office\, Arlington\, 1300 Wilson Blvd\, Arlington\, VA\, 22209\, United States
CATEGORIES:Copilot UG,Dynamics Business Central / NAV UG,Dynamics CE / CRM UG,Dynamics FO / AX UG,Dynamics SL UG,Fabric UG,Power Platform UG
ATTACH;FMTTYPE=image/jpeg:https://cdn.dynamicscommunities.com/wp-content/uploads/2024/01/https-cdn.evbuc_.com-images-676085189-1944938368073-1-original.jpg
END:VEVENT
BEGIN:VEVENT
DTSTART;TZID=America/New_York:20250429T080000
DTEND;TZID=America/New_York:20250429T170000
DTSTAMP:20260424T075122
CREATED:20240909T132452Z
LAST-MODIFIED:20250425T150338Z
UID:72330-1745913600-1745946000@dynamicscommunities.com
SUMMARY:Summit NA Roadshow — Toronto
DESCRIPTION:The Community Summit NA Roadshow is a microburst of Summit NA\, the largest independent innovation\, education\, and training event for Microsoft Business Applications\, focused on basic learning\, local network\, and idea sharing for Dynamics 365 F/SCM (F&O)\, Business Central\, Dynamics 365 CE and Power Platform. \nCreated with a “for user\, by user” approach\, each stop provides the Microsoft Biz Apps community with a free day of training that includes 15-20 educational sessions\, coffee and lunch\, and networking\, providing the community with: \n\nBusiness application education\nIntimate networking opportunities\nPossibilities of new technologies\n\nJoin us at one of the stops in 2025! And if you’re interested in speaking\, don’t miss your chance to submit a session while the Call for Speakers is open. \nRegistration for this event is closed. The Microsoft Toronto office cannot accommodate unregistered attendees\, so onsite registration will not be available\, and unregistered attendees will not be able to attend this event. Please email roadshows@dynamiccommunities.com if you are unsure about your registration status.
URL:https://dynamicscommunities.com/event/summit-na-roadshow-toronto/
LOCATION:Microsoft Office\, Toronto\, 81 Bay St.\, Toronto\, Ontario\, Canada
CATEGORIES:Copilot UG,Dynamics Business Central / NAV UG,Dynamics CE / CRM UG,Dynamics FO / AX UG,Dynamics SL UG,Fabric UG,Power Platform UG
ATTACH;FMTTYPE=image/jpeg:https://cdn.dynamicscommunities.com/wp-content/uploads/2024/01/https-cdn.evbuc_.com-images-676085189-1944938368073-1-original.jpg
END:VEVENT
END:VCALENDAR