BEGIN:VCALENDAR
VERSION:2.0
PRODID:-//Dynamics Communities - ECPv6.15.17.1//NONSGML v1.0//EN
CALSCALE:GREGORIAN
METHOD:PUBLISH
X-ORIGINAL-URL:https://dynamicscommunities.com
X-WR-CALDESC:Events for Dynamics Communities
REFRESH-INTERVAL;VALUE=DURATION:PT1H
X-Robots-Tag:noindex
X-PUBLISHED-TTL:PT1H
BEGIN:VTIMEZONE
TZID:America/Chicago
BEGIN:DAYLIGHT
TZOFFSETFROM:-0600
TZOFFSETTO:-0500
TZNAME:CDT
DTSTART:20240310T080000
END:DAYLIGHT
BEGIN:STANDARD
TZOFFSETFROM:-0500
TZOFFSETTO:-0600
TZNAME:CST
DTSTART:20241103T070000
END:STANDARD
BEGIN:DAYLIGHT
TZOFFSETFROM:-0600
TZOFFSETTO:-0500
TZNAME:CDT
DTSTART:20250309T080000
END:DAYLIGHT
BEGIN:STANDARD
TZOFFSETFROM:-0500
TZOFFSETTO:-0600
TZNAME:CST
DTSTART:20251102T070000
END:STANDARD
BEGIN:DAYLIGHT
TZOFFSETFROM:-0600
TZOFFSETTO:-0500
TZNAME:CDT
DTSTART:20260308T080000
END:DAYLIGHT
BEGIN:STANDARD
TZOFFSETFROM:-0500
TZOFFSETTO:-0600
TZNAME:CST
DTSTART:20261101T070000
END:STANDARD
END:VTIMEZONE
BEGIN:VTIMEZONE
TZID:America/New_York
BEGIN:DAYLIGHT
TZOFFSETFROM:-0500
TZOFFSETTO:-0400
TZNAME:EDT
DTSTART:20240310T070000
END:DAYLIGHT
BEGIN:STANDARD
TZOFFSETFROM:-0400
TZOFFSETTO:-0500
TZNAME:EST
DTSTART:20241103T060000
END:STANDARD
BEGIN:DAYLIGHT
TZOFFSETFROM:-0500
TZOFFSETTO:-0400
TZNAME:EDT
DTSTART:20250309T070000
END:DAYLIGHT
BEGIN:STANDARD
TZOFFSETFROM:-0400
TZOFFSETTO:-0500
TZNAME:EST
DTSTART:20251102T060000
END:STANDARD
BEGIN:DAYLIGHT
TZOFFSETFROM:-0500
TZOFFSETTO:-0400
TZNAME:EDT
DTSTART:20260308T070000
END:DAYLIGHT
BEGIN:STANDARD
TZOFFSETFROM:-0400
TZOFFSETTO:-0500
TZNAME:EST
DTSTART:20261101T060000
END:STANDARD
END:VTIMEZONE
BEGIN:VEVENT
DTSTART;TZID=America/Chicago:20250814T093000
DTEND;TZID=America/Chicago:20250814T140000
DTSTAMP:20260425T101705
CREATED:20250709T121753Z
LAST-MODIFIED:20250902T130605Z
UID:77398-1755163800-1755180000@dynamicscommunities.com
SUMMARY:[ON-DEMAND]: August BC/NAV Local Chapter Meeting
DESCRIPTION:A day of education and networking for BC/NAV users\, hosted at the Microsoft Town Center in Houston\, TX. \n\n\n\n\n\n\n\n\nAgenda:\n\n\n9:30am – 10:10am – Breakfast/networking\n10:10am-10:30am – Introductions/Updates – Jessie Sanger-Picard\n10:30am-11:15am – Service Management – Robb Delprado\n11:15-11:25am – Coffee Break\n11:25am – 12:00pm – ExpandIT- John Macdonald\n12:00pm – 12:45pm – Lunch\n12:45pm – 1:30pm – D365 Field Services – Jon Rastia and Greg Moser\n1:30pm-1:35pm – Quick Break\n1:35pm – 1:55pm – Roundtables/Feedback\n1:55pm – 2:00pm – closings\n\nView the recording here:  \n﻿
URL:https://dynamicscommunities.com/event/august-bc-nav-local-chapter-meeting/
LOCATION:Microsoft Town Center\, 750 Town and Country Boulevard 10th Floor\, Houston\, TX\, 77024\, United States
CATEGORIES:Dynamics Business Central / NAV UG,On-Demand
ATTACH;FMTTYPE=image/jpeg:https://cdn.dynamicscommunities.com/wp-content/uploads/2024/01/Dynamics-Communities-logo.jpg
END:VEVENT
BEGIN:VEVENT
DTSTART;TZID=America/New_York:20250821T130000
DTEND;TZID=America/New_York:20250821T150000
DTSTAMP:20260425T101705
CREATED:20250506T202405Z
LAST-MODIFIED:20250902T123739Z
UID:76599-1755781200-1755788400@dynamicscommunities.com
SUMMARY:[ON-DEMAND]: BC/NAV August National UG Meeting
DESCRIPTION:Agenda \n\nIntroductions – Jessie Sanger-Picard / Andrew Good​\nSummit Update – Michael Konstas / Steve Chinsky​\nUpcoming Events – Lewis Rosenberg / Shawn Dorward​\nEducational Sessions:​\n\nThe Basics and Building Blocks of Better Cash Flow Forecasting in Business Central – David Laster\n\nLearn about the basic concepts behind\, setting up and using the cash flow forecasting module in Business Central. Use the results to visualize your data with Power BI and become the superhero behind your cash flow management. We’ll barely tap into all the capabilities in this time together\, but you’ll walk away with some sure-fire ways you can put the module to use in your organization to head off your next cash crunch.\n\n\nMastering Business Central Page Scripting – Matt Traxinger\n\nAre you looking to enhance your Business Central testing strategy? Page Scripting is a new and powerful feature that enables you to simulate user interactions\, automate tests\, and ensure consistent results across different scenarios. This session will show you how to create and execute scripts effectively to test Business Central pages\, uncover hidden bugs\, and optimize workflows – all without any technical knowledge.\n\n\n\n\n\nOpen Forum – Jessie Sanger-Picard / Andrew Good​ \nView the on-demand recording:
URL:https://dynamicscommunities.com/event/bc-nav-august-national-ug-meeting/
CATEGORIES:Dynamics Business Central / NAV UG,On-Demand
ATTACH;FMTTYPE=image/jpeg:https://cdn.dynamicscommunities.com/wp-content/uploads/2024/06/Dynamics-Communities-logo.jpg
END:VEVENT
BEGIN:VEVENT
DTSTART;TZID=America/New_York:20250827T120000
DTEND;TZID=America/New_York:20250827T150000
DTSTAMP:20260425T101705
CREATED:20250707T185954Z
LAST-MODIFIED:20250828T213328Z
UID:77370-1756296000-1756306800@dynamicscommunities.com
SUMMARY:[ON-DEMAND]: Module 5: Dynamics GP Digital Summit Live Q&A
DESCRIPTION:The Dynamics GP journey has many paths\, and Dynamics Communities is here to help wherever you are in your journey. In this final day of the Dynamics GP Strategic Planning Digital Summit\, we are bringing the module speakers together for a live and interactive Zoom Q&A session. This is a great opportunity for you to get personalized insights based on everything learned throughout the series. \nView the on-demand recording here:
URL:https://dynamicscommunities.com/event/module-5-dynamics-gp-digital-summit-live-qa/
CATEGORIES:Dynamics GP UG,On-Demand
ATTACH;FMTTYPE=image/jpeg:https://cdn.dynamicscommunities.com/wp-content/uploads/2024/01/Dynamics-Communities-logo.jpg
END:VEVENT
END:VCALENDAR