BEGIN:VCALENDAR
VERSION:2.0
PRODID:-//Dynamics Communities - ECPv6.15.17.1//NONSGML v1.0//EN
CALSCALE:GREGORIAN
METHOD:PUBLISH
X-ORIGINAL-URL:https://dynamicscommunities.com
X-WR-CALDESC:Events for Dynamics Communities
REFRESH-INTERVAL;VALUE=DURATION:PT1H
X-Robots-Tag:noindex
X-PUBLISHED-TTL:PT1H
BEGIN:VTIMEZONE
TZID:America/New_York
BEGIN:DAYLIGHT
TZOFFSETFROM:-0500
TZOFFSETTO:-0400
TZNAME:EDT
DTSTART:20230312T070000
END:DAYLIGHT
BEGIN:STANDARD
TZOFFSETFROM:-0400
TZOFFSETTO:-0500
TZNAME:EST
DTSTART:20231105T060000
END:STANDARD
BEGIN:DAYLIGHT
TZOFFSETFROM:-0500
TZOFFSETTO:-0400
TZNAME:EDT
DTSTART:20240310T070000
END:DAYLIGHT
BEGIN:STANDARD
TZOFFSETFROM:-0400
TZOFFSETTO:-0500
TZNAME:EST
DTSTART:20241103T060000
END:STANDARD
BEGIN:DAYLIGHT
TZOFFSETFROM:-0500
TZOFFSETTO:-0400
TZNAME:EDT
DTSTART:20250309T070000
END:DAYLIGHT
BEGIN:STANDARD
TZOFFSETFROM:-0400
TZOFFSETTO:-0500
TZNAME:EST
DTSTART:20251102T060000
END:STANDARD
END:VTIMEZONE
BEGIN:VEVENT
DTSTART;TZID=America/New_York:20241219T130000
DTEND;TZID=America/New_York:20241219T150000
DTSTAMP:20260423T131856
CREATED:20241203T142642Z
LAST-MODIFIED:20250303T135531Z
UID:74228-1734613200-1734620400@dynamicscommunities.com
SUMMARY:[ON-DEMAND]: BC/NAV December National User Group Meeting
DESCRIPTION:Agenda \n\nIntroductions – Bill Wilson / Robb Delprado ​\nSummit Update – Steve Chinsky​/ Kim Dallefeld\nUpcoming Events – Lewis Rosenberg / Amanda Mayer​\nEducational Sessions:​\n\n\n\n\nTrust Issues:  Letting GitHub Copilot take the Yolk – Dustin Wolf\nBC v24 to v25 *Fall 2024 Wave 2” issues -Bob Stahr\n\n\n\n\nClosing/Open Forum – Bill Wilson / Robb Delprado ​\n\n 
URL:https://dynamicscommunities.com/event/bc-nav-december-national-user-group-meeting/
CATEGORIES:Dynamics Business Central / NAV UG,On-Demand
ATTACH;FMTTYPE=image/jpeg:https://cdn.dynamicscommunities.com/wp-content/uploads/2024/06/Dynamics-Communities-logo.jpg
END:VEVENT
END:VCALENDAR