BEGIN:VCALENDAR
VERSION:2.0
PRODID:-//Dynamics Communities - ECPv6.15.17.1//NONSGML v1.0//EN
CALSCALE:GREGORIAN
METHOD:PUBLISH
X-ORIGINAL-URL:https://dynamicscommunities.com
X-WR-CALDESC:Events for Dynamics Communities
REFRESH-INTERVAL;VALUE=DURATION:PT1H
X-Robots-Tag:noindex
X-PUBLISHED-TTL:PT1H
BEGIN:VTIMEZONE
TZID:America/New_York
BEGIN:DAYLIGHT
TZOFFSETFROM:-0500
TZOFFSETTO:-0400
TZNAME:EDT
DTSTART:20230312T070000
END:DAYLIGHT
BEGIN:STANDARD
TZOFFSETFROM:-0400
TZOFFSETTO:-0500
TZNAME:EST
DTSTART:20231105T060000
END:STANDARD
BEGIN:DAYLIGHT
TZOFFSETFROM:-0500
TZOFFSETTO:-0400
TZNAME:EDT
DTSTART:20240310T070000
END:DAYLIGHT
BEGIN:STANDARD
TZOFFSETFROM:-0400
TZOFFSETTO:-0500
TZNAME:EST
DTSTART:20241103T060000
END:STANDARD
BEGIN:DAYLIGHT
TZOFFSETFROM:-0500
TZOFFSETTO:-0400
TZNAME:EDT
DTSTART:20250309T070000
END:DAYLIGHT
BEGIN:STANDARD
TZOFFSETFROM:-0400
TZOFFSETTO:-0500
TZNAME:EST
DTSTART:20251102T060000
END:STANDARD
END:VTIMEZONE
BEGIN:VEVENT
DTSTART;TZID=America/New_York:20241212T130000
DTEND;TZID=America/New_York:20241212T140000
DTSTAMP:20260425T090200
CREATED:20241004T123544Z
LAST-MODIFIED:20241213T155451Z
UID:72846-1734008400-1734012000@dynamicscommunities.com
SUMMARY:[ON-DEMAND]: BC/NAV UG Webinar: Avoiding Common Pitfalls: Year-End Best Practices in Business Central
DESCRIPTION:Description: With year-end just around the corner for many\, this session is focused on common pitfalls to avoid performing year-end close processes in Business Central. Our expert presenters will highlight common challenges and provide actionable tips to ensure an efficient and accurate financial close.  Set yourself up for success in the new year! \nPresenters: Cari Corozza (from New View Strategies) and Cynthia Priebe\, Microsoft MVP  (from MGC Group\, LLC) \n  \n \n 
URL:https://dynamicscommunities.com/event/bc-nav-ug-webinar-avoiding-common-pitfalls-year-end-best-practices-in-business-central/
CATEGORIES:Dynamics Business Central / NAV UG,On-Demand
ATTACH;FMTTYPE=image/jpeg:https://cdn.dynamicscommunities.com/wp-content/uploads/2024/01/Dynamics-Communities-logo.jpg
END:VEVENT
END:VCALENDAR